BEGIN:VCALENDAR
VERSION:2.0
PRODID:-//The Dancing Goat Dairy - ECPv6.15.20//NONSGML v1.0//EN
CALSCALE:GREGORIAN
METHOD:PUBLISH
X-WR-CALNAME:The Dancing Goat Dairy
X-ORIGINAL-URL:https://dancinggoatdairy.com
X-WR-CALDESC:Events for The Dancing Goat Dairy
REFRESH-INTERVAL;VALUE=DURATION:PT1H
X-Robots-Tag:noindex
X-PUBLISHED-TTL:PT1H
BEGIN:VTIMEZONE
TZID:America/New_York
BEGIN:DAYLIGHT
TZOFFSETFROM:-0500
TZOFFSETTO:-0400
TZNAME:EDT
DTSTART:20230312T070000
END:DAYLIGHT
BEGIN:STANDARD
TZOFFSETFROM:-0400
TZOFFSETTO:-0500
TZNAME:EST
DTSTART:20231105T060000
END:STANDARD
BEGIN:DAYLIGHT
TZOFFSETFROM:-0500
TZOFFSETTO:-0400
TZNAME:EDT
DTSTART:20240310T070000
END:DAYLIGHT
BEGIN:STANDARD
TZOFFSETFROM:-0400
TZOFFSETTO:-0500
TZNAME:EST
DTSTART:20241103T060000
END:STANDARD
BEGIN:DAYLIGHT
TZOFFSETFROM:-0500
TZOFFSETTO:-0400
TZNAME:EDT
DTSTART:20250309T070000
END:DAYLIGHT
BEGIN:STANDARD
TZOFFSETFROM:-0400
TZOFFSETTO:-0500
TZNAME:EST
DTSTART:20251102T060000
END:STANDARD
END:VTIMEZONE
BEGIN:VEVENT
DTSTART;TZID=America/New_York:20240102T183000
DTEND;TZID=America/New_York:20240102T190000
DTSTAMP:20260421T062807
CREATED:20220917T211242Z
LAST-MODIFIED:20250206T145616Z
UID:6801-1704220200-1704222000@dancinggoatdairy.com
SUMMARY:Meet Up on 3rd Street - St. Pete
DESCRIPTION:
URL:https://dancinggoatdairy.com/event/meet-up-on-3rd-street-st-pete-2-2022-11-15-2023-01-03-2023-01-24-2023-03-28-2023-05-23-2023-06-06-2024-01-02/
END:VEVENT
BEGIN:VEVENT
DTSTART;TZID=America/New_York:20240114T130000
DTEND;TZID=America/New_York:20240114T160000
DTSTAMP:20260421T062807
CREATED:20240113T045737Z
LAST-MODIFIED:20240318T123118Z
UID:8338-1705237200-1705248000@dancinggoatdairy.com
SUMMARY:Farm Market - Every Sunday!!
DESCRIPTION:
URL:https://dancinggoatdairy.com/event/farm-market-every-sunday/
END:VEVENT
BEGIN:VEVENT
DTSTART;TZID=America/New_York:20240116T183000
DTEND;TZID=America/New_York:20240116T190000
DTSTAMP:20260421T062807
CREATED:20220917T211242Z
LAST-MODIFIED:20250206T145619Z
UID:6802-1705429800-1705431600@dancinggoatdairy.com
SUMMARY:Meet Up on 3rd Street - St. Pete
DESCRIPTION:
URL:https://dancinggoatdairy.com/event/meet-up-on-3rd-street-st-pete-2-2022-11-15-2023-01-03-2023-01-24-2023-03-28-2023-05-23-2023-06-06-2024-01-16/
END:VEVENT
BEGIN:VEVENT
DTSTART;TZID=America/New_York:20240117T150000
DTEND;TZID=America/New_York:20240117T190000
DTSTAMP:20260421T062808
CREATED:20240113T045911Z
LAST-MODIFIED:20240318T122902Z
UID:8350-1705503600-1705518000@dancinggoatdairy.com
SUMMARY:Wednesday Farm Market
DESCRIPTION:
URL:https://dancinggoatdairy.com/event/wednesday-farm-market/
END:VEVENT
BEGIN:VEVENT
DTSTART;TZID=America/New_York:20240121T130000
DTEND;TZID=America/New_York:20240121T160000
DTSTAMP:20260421T062808
CREATED:20240113T045737Z
LAST-MODIFIED:20240318T123152Z
UID:8339-1705842000-1705852800@dancinggoatdairy.com
SUMMARY:Farm Market - Every Sunday!!
DESCRIPTION:
URL:https://dancinggoatdairy.com/event/farm-market-every-sunday-2024-01-21/
END:VEVENT
BEGIN:VEVENT
DTSTART;TZID=America/New_York:20240124T150000
DTEND;TZID=America/New_York:20240124T190000
DTSTAMP:20260421T062808
CREATED:20240113T045911Z
LAST-MODIFIED:20240113T045911Z
UID:8351-1706108400-1706122800@dancinggoatdairy.com
SUMMARY:Wednesday Farm Market
DESCRIPTION:
URL:https://dancinggoatdairy.com/event/wednesday-farm-market-2024-01-24/
END:VEVENT
BEGIN:VEVENT
DTSTART;TZID=America/New_York:20240128T130000
DTEND;TZID=America/New_York:20240128T160000
DTSTAMP:20260421T062808
CREATED:20240113T045737Z
LAST-MODIFIED:20240318T123152Z
UID:8340-1706446800-1706457600@dancinggoatdairy.com
SUMMARY:Farm Market - Every Sunday!!
DESCRIPTION:
URL:https://dancinggoatdairy.com/event/farm-market-every-sunday-2024-01-28/
END:VEVENT
BEGIN:VEVENT
DTSTART;TZID=America/New_York:20240130T183000
DTEND;TZID=America/New_York:20240130T190000
DTSTAMP:20260421T062808
CREATED:20220917T211242Z
LAST-MODIFIED:20250206T145621Z
UID:6803-1706639400-1706641200@dancinggoatdairy.com
SUMMARY:Meet Up on 3rd Street - St. Pete
DESCRIPTION:
URL:https://dancinggoatdairy.com/event/meet-up-on-3rd-street-st-pete-2-2022-11-15-2023-01-03-2023-01-24-2023-03-28-2023-05-23-2023-06-06-2024-01-30/
END:VEVENT
BEGIN:VEVENT
DTSTART;TZID=America/New_York:20240131T150000
DTEND;TZID=America/New_York:20240131T190000
DTSTAMP:20260421T062808
CREATED:20240113T045911Z
LAST-MODIFIED:20240113T045911Z
UID:8352-1706713200-1706727600@dancinggoatdairy.com
SUMMARY:Wednesday Farm Market
DESCRIPTION:
URL:https://dancinggoatdairy.com/event/wednesday-farm-market-2024-01-31/
END:VEVENT
END:VCALENDAR